Workbook

Sheet PCL
A1: FULL-TIME PROFESSORS, COUNSELLORS AND LIBRARIANS
A8: Step Level (1) | B8: Effective Sept. 1, 2016 | C8: A | D8: B | E8: = A - B | F8: Potential additional deduction on future pays based on total days of work stoppage
C9: Daily rate using proposed ROT protocol (1/216) | D9: Daily rate on which we are currently paid (1/261) | E9: Potential additional deduction on future pays (daily)
F11: 4 weeks (20 days) | G11: 5 weeks (25 days) | H11: 6 weeks (30 days)
A12: 5 | B12: 61638 | C12: =B12/216 -> 285.36111 | D12: =B12/261 -> 236.16092 | E12: =C12-D12 -> 49.200192 | F12: =E12*20 -> 984.00383 | G12: =E12*25 -> 1230.0048 | H12: =E12*30 -> 1476.0057
A13: 6 | B13: 64469 | C13: =B13/216 -> 298.46759 | D13: =B13/261 -> 247.00766 | E13: =C13-D13 -> 51.45993 | F13: =E13*20 -> 1029.1986 | G13: =E13*25 -> 1286.4982 | H13: =E13*30 -> 1543.7979
A14: 7 | B14: 67298 | C14: =B14/216 -> 311.56481 | D14: =B14/261 -> 257.84674 | E14: =C14-D14 -> 53.718072 | F14: =E14*20 -> 1074.3614 | G14: =E14*25 -> 1342.9518 | H14: =E14*30 -> 1611.5421
A15: 8 | B15: 70126 | C15: =B15/216 -> 324.65741 | D15: =B15/261 -> 268.68199 | E15: =C15-D15 -> 55.975415 | F15: =E15*20 -> 1119.5083 | G15: =E15*25 -> 1399.3854 | H15: =E15*30 -> 1679.2625
A16: 9 | B16: 72955 | C16: =B16/216 -> 337.75463 | D16: =B16/261 -> 279.52107 | E16: =C16-D16 -> 58.233557 | F16: =E16*20 -> 1164.6711 | G16: =E16*25 -> 1455.8389 | H16: =E16*30 -> 1747.0067
A17: 10 | B17: 75783 | C17: =B17/216 -> 350.84722 | D17: =B17/261 -> 290.35632 | E17: =C17-D17 -> 60.4909 | F17: =E17*20 -> 1209.818 | G17: =E17*25 -> 1512.2725 | H17: =E17*30 -> 1814.727
A18: 11 | B18: 78612 | C18: =B18/216 -> 363.94444 | D18: =B18/261 -> 301.1954 | E18: =C18-D18 -> 62.749042 | F18: =E18*20 -> 1254.9808 | G18: =E18*25 -> 1568.7261 | H18: =E18*30 -> 1882.4713
A19: 12 | B19: 81442 | C19: =B19/216 -> 377.0463 | D19: =B19/261 -> 312.03831 | E19: =C19-D19 -> 65.007982 | F19: =E19*20 -> 1300.1596 | G19: =E19*25 -> 1625.1996 | H19: =E19*30 -> 1950.2395
A20: 13 | B20: 84272 | C20: =B20/216 -> 390.14815 | D20: =B20/261 -> 322.88123 | E20: =C20-D20 -> 67.266922 | F20: =E20*20 -> 1345.3384 | G20: =E20*25 -> 1681.6731 | H20: =E20*30 -> 2018.0077
A21: 14 | B21: 87100 | C21: =B21/216 -> 403.24074 | D21: =B21/261 -> 333.71648 | E21: =C21-D21 -> 69.524266 | F21: =E21*20 -> 1390.4853 | G21: =E21*25 -> 1738.1066 | H21: =E21*30 -> 2085.728
A22: 15 | B22: 89931 | C22: =B22/216 -> 416.34722 | D22: =B22/261 -> 344.56322 | E22: =C22-D22 -> 71.784004 | F22: =E22*20 -> 1435.6801 | G22: =E22*25 -> 1794.6001 | H22: =E22*30 -> 2153.5201
A23: 16 | B23: 92751 | C23: =B23/216 -> 429.40278 | D23: =B23/261 -> 355.36782 | E23: =C23-D23 -> 74.034962 | F23: =E23*20 -> 1480.6992 | G23: =E23*25 -> 1850.874 | H23: =E23*30 -> 2221.0489
... A28: 21 | B28: 106853 | C28: =B28/216 -> 494.68981 | D28: =B28/261 -> 409.39847 | E28: =C28-D28 -> 85.291347 | F28: =E28*20 -> 1705.8269 | G28: =E28*25 -> 2132.2837 | H28: =E28*30 -> 2558.7404
A29: (1) per current collective agreement
A30: (5 days a week X 52 weeks) + 1 = 261
A31: 5 days a week X 52 weeks X 10/12 = 216

Sheet Instructors
A1: FULL-TIME INSTRUCTORS
A8: Step Level (1) | B8: Effective Sept. 1, 2016 | C8: A | D8: B | E8: = A - B | F8: Potential additional deduction on future pays based on total days of work stoppage
C9: Daily rate using proposed ROT protocol (1/216) | D9: Daily rate on which we are currently paid (1/261) | E9: Potential additional deduction on future pays (daily)
F11: 4 weeks (20 days) | G11: 5 weeks (25 days) | H11: 6 weeks (30 days)
A12: =Sheet3!A3 -> Minimum | B12: =Sheet3!D3 -> 40548 | C12: =B12/216 -> 187.72222 | D12: =B12/261 -> 155.35632 | E12: =C12-D12 -> 32.3659 | F12: =E12*20 -> 647.31801 | G12: =E12*25 -> 809.14751 | H12: =E12*30 -> 970.97701
A13: =Sheet3!A4 -> 1 | B13: =Sheet3!D4 -> 43382 | C13: =B13/216 -> 200.84259 | D13: =B13/261 -> 166.21456 | E13: =C13-D13 -> 34.628033 | F13: =E13*20 -> 692.56066 | G13: =E13*25 -> 865.70083 | H13: =E13*30 -> 1038.841
A14: =Sheet3!A5 -> 2 | B14: =Sheet3!D5 -> 46207 | C14: =B14/216 -> 213.9213 | D14: =B14/261 -> 177.03831 | E14: =C14-D14 -> 36.882982 | F14: =E14*20 -> 737.65964 | G14: =E14*25 -> 922.07455 | H14: =E14*30 -> 1106.4895
A15: =Sheet3!A6 -> 3 | B15: =Sheet3!D6 -> 49035 | C15: =B15/216 -> 227.01389 | D15: =B15/261 -> 187.87356 | E15: =C15-D15 -> 39.140326 | F15: =E15*20 -> 782.80651 | G15: =E15*25 -> 978.50814 | H15: =E15*30 -> 1174.2098
A16: =Sheet3!A7 -> 4 | B16: =Sheet3!D7 -> 51866 | C16: =B16/216 -> 240.12037 | D16: =B16/261 -> 198.72031 | E16: =C16-D16 -> 41.400064 | F16: =E16*20 -> 828.00128 | G16: =E16*25 -> 1035.0016 | H16: =E16*30 -> 1242.0019
A17: =Sheet3!A8 -> 5* | B17: =Sheet3!D8 -> 54695 | C17: =B17/216 -> 253.21759 | D17: =B17/261 -> 209.55939 | E17: =C17-D17 -> 43.658206 | F17: =E17*20 -> 873.16411 | G17: =E17*25 -> 1091.4551 | H17: =E17*30 -> 1309.7462
A18: =Sheet3!A9 -> 6 | B18: =Sheet3!D9 -> 57523 | C18: =B18/216 -> 266.31019 | D18: =B18/261 -> 220.39464 | E18: =C18-D18 -> 45.915549 | F18: =E18*20 -> 918.31098 | G18: =E18*25 -> 1147.8887 | H18: =E18*30 -> 1377.4665
A19: =Sheet3!A10 -> 7 | B19: =Sheet3!D10 -> 60352 | C19: =B19/216 -> 279.40741 | D19: =B19/261 -> 231.23372 | E19: =C19-D19 -> 48.173691 | F19: =E19*20 -> 963.47382 | G19: =E19*25 -> 1204.3423 | H19: =E19*30 -> 1445.2107
A20: =Sheet3!A11 -> 8 | B20: =Sheet3!D11 -> 63182 | C20: =B20/216 -> 292.50926 | D20: =B20/261 -> 242.07663 | E20: =C20-D20 -> 50.432631 | F20: =E20*20 -> 1008.6526 | G20: =E20*25 -> 1260.8158 | H20: =E20*30 -> 1512.9789
A21: =Sheet3!A12 -> 9 | B21: =Sheet3!D12 -> 66012 | C21: =B21/216 -> 305.61111 | D21: =B21/261 -> 252.91954 | E21: =C21-D21 -> 52.691571 | F21: =E21*20 -> 1053.8314 | G21: =E21*25 -> 1317.2893 | H21: =E21*30 -> 1580.7471
A22: =Sheet3!A13 -> 10 | B22: =Sheet3!D13 -> 68842 | C22: =B22/216 -> 318.71296 | D22: =B22/261 -> 263.76245 | E22: =C22-D22 -> 54.950511 | F22: =E22*20 -> 1099.0102 | G22: =E22*25 -> 1373.7628 | H22: =E22*30 -> 1648.5153
A23: (1) per current collective agreement
A24: (5 days a week X 52 weeks) + 1 = 261
A25: 5 days a week X 52 weeks X 10/12 = 216

Sheet Sheet3
A1: Step | B1: Effective | C1: Effective | D1: Effective
B2: Sept. 1, 2014 | C2: Sept. 1, 2015 | D2: Sept. 1, 2016
A3: Minimum | B3: 39242 | C3: 39831 | D3: 40548
A4: 1 | B4: 41985 | C4: 42615 | D4: 43382
A5: 2 | B5: 44719 | C5: 45390 | D5: 46207
A6: 3 | B6: 47456 | C6: 48168 | D6: 49035
A7: 4 | B7: 50196 | C7: 50949 | D7: 51866
A8: 5* | B8: 52934 | C8: 53728 | D8: 54695
A9: 6 | B9: 55671 | C9: 56506 | D9: 57523
A10: 7 | B10: 58409 | C10: 59285 | D10: 60352
A11: 8 | B11: 61148 | C11: 62065 | D11: 63182
A12: 9 | B12: 63887 | C12: 64845 | D12: 66012
A13: 10 | B13: 66625 | C13: 67624 | D13: 68842
